Workbook
Name Likelihood: Sheet1!$B$1:$B$5
Name Maintenance1: Sheet1!$E$1:$E$4
Name Maintenance2: Sheet1!$H$1:$H$4
Name Measures1: Sheet1!$D$1:$D$4
Name Measures2: Sheet1!$G$1:$G$4
Name Select: Sheet1!$F$1
Name Severity: Sheet1!$A$1:$A$5

Sheet Club RA
A1: Risk Assessment
A2: Club | D2: Hexham Rowing Club | G2: Date: | I2: 12th January 2018
A3: Author | D3: Jenny Ludman | G3: Rev: | I3: 1st draft
A5: No: | B5: Hazard | C5: Reduce probability a Hazard causing a Hazardous Event | E5: Hazardous Event | F5: Reduce the Severity of Harm | H5: Harm | I5: Severity (1-5) | J5: Probability (A-E) | K5: Level of Risk (L/M/S/I) | L5: Action Owners
C6: Barriers | D6: Action to maintain barriers | F6: Controls | G6: Action to maintain controls | L6: Club Chairman | M6: Club RSA | N6: Coaches | O6: Coxes | P6: other
A7: Water
A8: 1 | B8: Weir | C8: Matrix system devised to ensure rowers don't go out when the river is high (and the weir is most dangerous). Turning system to avoid turning near the weir, new posts in the river to delineate turning areas, members to be fully briefed on the dangers associated with the weir | D8: Maintain safety board, update matrix, social media updates, website | E8: People/property going over the weir | F8: Throw lines, life jackets, first aid advice on board, first aid kit, safety blankets | G8: Maintain board with information, organise training sessions for throw-lines | H8: Severe harm would be caused if crews were to go over the weir | I8: 5 | J8: A | K8: =VLOOKUP($I8&$J8,Sheet1!$A$7:$B$31,2,FALSE) -> Moderate
A9: 2 | B9: Capsize | C9: Ensure rowers only go out when safe. Ensure all rowers have completed capsize drill. | D9: Reminders to complete capsize drill, information on safety board about when it is safe to go out. | E9: Capsize | F9: Throw lines if needed, first aid kit/blankets available. | G9: Ensure rescue equipment remains in place, and maintained. Ensure training on throw lines is carried out on a regular basis. | H9: Minimum harm if procedures followed | I9: 2 | J9: C | K9: =VLOOKUP($I9&$J9,Sheet1!$A$7:$B$31,2,FALSE) -> Low
A10: 3 | B10: Collisions in the river | C10: Ensure coxes are trained. Rowers to look where they are going, with clear circulating pattern. Bow balls to be maintained | D10: Maintain safety board, with boat circulation clearly shown | E10: Crash | F10: First aid kit available | G10: Ensure rescue equipment remains in place, and maintained. Ensure training on throw lines is carried out on a regular basis. | H10: Minumum harm if procedures followed | I10: 3 | J10: B | K10: =VLOOKUP($I10&$J10,Sheet1!$A$7:$B$31,2,FALSE) -> Low
A11: 4 | B11: Waterborne disease | C11: Ensure rowers know to wash their hands after going on the water | D11: Information on safety board, Safety Plan, and on website | E11: Infection of waterbourne disease | F11: Treatment (outside scope of rowing club) | G11: N/A | H11: Varies | I11: 4 | J11: A | K11: =VLOOKUP($I11&$J11,Sheet1!$A$7:$B$31,2,FALSE) -> Low
A12: 5 | K12: =VLOOKUP($I12&$J12,Sheet1!$A$7:$B$31,2,FALSE) -> #N/A
A13: 6 | K13: =VLOOKUP($I13&$J13,Sheet1!$A$7:$B$31,2,FALSE) -> #N/A
A14: 7 | K14: =VLOOKUP($I14&$J14,Sheet1!$A$7:$B$31,2,FALSE) -> #N/A
A15: Weather
A16: 1 | B16: Cold/windy weather | C16: Safety matrix includes information about weather conditions for outings. Safety board to contain information about clothing | D16: Maintain safety board and associated information | E16: Hypothermia | F16: Ensure spare clothes available, safety blankets. First aid information for treatment of hypothermia. | G16: Ensure all warm clothing is clearly labelled in a drawer, and information maintained on safety board | H16: Unlikely | I16: 4 | J16: A | K16: =VLOOKUP($I16&$J16,Sheet1!$A$7:$B$31,2,FALSE) -> Low
A17: 2 | K17: =VLOOKUP($I17&$J17,Sheet1!$A$7:$B$31,2,FALSE) -> #N/A
A18: 3 | K18: =VLOOKUP($I18&$J18,Sheet1!$A$7:$B$31,2,FALSE) -> #N/A
A19: 4 | K19: =VLOOKUP($I19&$J19,Sheet1!$A$7:$B$31,2,FALSE) -> #N/A
A20: 5 | K20: =VLOOKUP($I20&$J20,Sheet1!$A$7:$B$31,2,FALSE) -> #N/A
A21: 6 | K21: =VLOOKUP($I21&$J21,Sheet1!$A$7:$B$31,2,FALSE) -> #N/A
A22: 7 | K22: =VLOOKUP($I22&$J22,Sheet1!$A$7:$B$31,2,FALSE) -> #N/A
A23: Other water users
A24: 1 | B24: Swimmers | C24: Ensure safety board briefs members about swimmers, and to always keep an eye out | D24: Maintain safety board and associated information | E24: Hitting a swimmer | F24: First aid kit available | G24: Maintain board with first aid information, and keep first aid kit in a clearly labelled drawer | H24: Unlikely | I24: 4 | J24: A | K24: =VLOOKUP($I24&$J24,Sheet1!$A$7:$B$31,2,FALSE) -> Low
A25: 2 | B25: Canoeists | C25: Ensure rowers keep an eye out for other river users | D25: Maintain safety board and associated information | E25: Hitting a canoeist | F25: First aid kit available | G25: Maintain board with first aid information, and keep first aid kit in a clearly labelled drawer | H25: Unlikely - harm not likely to be significant | I25: 2 | J25: A | K25: =VLOOKUP($I25&$J25,Sheet1!$A$7:$B$31,2,FALSE) -> Low
A26: 3 | B26: Fisherman | C26: Ensure rowers keep an eye out for other river users | D26: Maintain safety board and associated information | E26: Tangled in fishing line | F26: First aid kit available | G26: Maintain board with first aid information, and keep first aid kit in a clearly labelled drawer | H26: Minimal harm | I26: 1 | J26: A | K26: =VLOOKUP($I26&$J26,Sheet1!$A$7:$B$31,2,FALSE) -> Low
A27: 4 | K27: =VLOOKUP($I27&$J27,Sheet1!$A$7:$B$31,2,FALSE) -> #N/A
A28: 5 | K28: =VLOOKUP($I28&$J28,Sheet1!$A$7:$B$31,2,FALSE) -> #N/A
A29: 6 | K29: =VLOOKUP($I29&$J29,Sheet1!$A$7:$B$31,2,FALSE) -> #N/A
A30: 7 | K30: =VLOOKUP($I30&$J30,Sheet1!$A$7:$B$31,2,FALSE) -> #N/A
A31: Local Environment
A32: 1 | B32: River rising suddenly | C32: Ensure safety board contains information about when it is and isn't safet to go out, including an assessment of whether river is rising or not. Links on HRC website to river information | D32: Maintain safety board and HRC website with information | E32: River suddenly rising causing unsafe rowing conditions | F32: Throw lines if needed | G32: Ensure rescue equipment remains in place, and maintained. Ensure training on throw lines is carried out on a regular basis. | H32: Unlikely - harm not likely to be significant if crews come in quickly | I32: 3 | J32: C | K32: =VLOOKUP($I32&$J32,Sheet1!$A$7:$B$31,2,FALSE) -> Moderate
A33: 2 | K33: =VLOOKUP($I33&$J33,Sheet1!$A$7:$B$31,2,FALSE) -> #N/A
A34: 3 | K34: =VLOOKUP($I34&$J34,Sheet1!$A$7:$B$31,2,FALSE) -> #N/A
A35: 4 | K35: =VLOOKUP($I35&$J35,Sheet1!$A$7:$B$31,2,FALSE) -> #N/A
A36: 5 | K36: =VLOOKUP($I36&$J36,Sheet1!$A$7:$B$31,2,FALSE) -> #N/A
A37: 6 | K37: =VLOOKUP($I37&$J37,Sheet1!$A$7:$B$31,2,FALSE) -> #N/A
A38: 7 | K38: =VLOOKUP($I38&$J38,Sheet1!$A$7:$B$31,2,FALSE) -> #N/A
A39: Going afloat and landing
A40: 1 | B40: Landing stages | C40: Ensure crews are aware of how to come in. | D40: Information on safety board, ensure L2R rowers are shown how to come in | E40: Hitting landing stage | H40: Low to people, damage to boats can be considerable | I40: 2 | J40: C | K40: =VLOOKUP($I40&$J40,Sheet1!$A$7:$B$31,2,FALSE) -> Low
A41: 2 | K41: =VLOOKUP($I41&$J41,Sheet1!$A$7:$B$31,2,FALSE) -> #N/A
...

Sheet Matrix
D8: People | E8: Assets | F8: Probability
F9: A | G9: B | H9: C | I9: D | J9: E
F10: Highly improbable (has not been known to happen in rowing) | G10: Improbable (has been known to happen in rowing) | H10: Possible (could happen to about 1% of the club's active members per decade) | I10: Probable (could happen to about 1% of the club's active members per year) | J10: Highly probable (could happen to about 10% of the club's active members per year)
B11: Severity | C11: 1 | D11: Slight injury or health effect (Requires little or no treatment; no need to take time off rowing or training) | E11: Minor damage to equipment (<£100) | F11: Low | G11: Low | H11: Low | I11: Low | J11: Moderate
C12: 2 | D12: Minor injury or health effect (Requires First Aid or rest; potentially a few days off rowing or training) | E12: Damage repair costs low (£500) | F12: Low | G12: Low | H12: Low | I12: Moderate | J12: Substantial
C13: 3 | D13: Moderate injury or health effect (Requires treatment beyond simple First Aid; potentially a week or so off rowing or training) | E13: High damage repair costs (>£1000) | F13: Low | G13: Low | H13: Moderate | I13: Substantial | J13: Intolerable
C14: 4 | D14: Major injury or health effect (Requires hospital treatment for more than one day; potentially a few weeks off rowing or training) | E14: Very high damage repair costs (loss of boat, 3rd party damage) | F14: Low | G14: Moderate | H14: Substantial | I14: Intolerable | J14: Intolerable
C15: 5 | D15: Fatality or Life Threatening Injury or Health Effect (could end a rowing career or cause hospitalisation for a few months) | E15: Major damage & major costs (loss of several boats, high 3rd party damage) | F15: Moderate | G15: Substantial | H15: Intolerable | I15: Intolerable | J15: Intolerable
D17: Low | E17: An acceptable level of risk. No additional barriers/controls are required. Start or continue the activity but check that the current barriers/controls remain effective.
D18: Moderate | E18: An acceptable level of risk that should be reviewed. Implement additional barriers/controls to reduce the risk if the opportunity arises. Start or continue the activity with care.
D19: Substantial | E19: An unacceptable level of risk. Improve the barriers/controls and allocate resources to reduce the risk. Do not start or continue the activity until the risk has been reduced.
D20: Intolerable | E20: An unacceptable level of risk. Improve the barriers/controls and allocate resources to reduce the risk. Do not start or continue the activity until the risk has been reduced. Prohibit the activity if it is not possible to reduce the risk.

Sheet Sheet1
A1: 1 | B1: A | D1: Phone to summon assistance | E1: Map showing navigation rules in boathouse | F1: X | G1: Launch | H1: Ensure that rowers are always accompanied by the coaching launch
A2: 2 | B2: B | D2: Navigation rules | E2: Enforce procedure to carry mobile phone in waterproof carrier | G2: Capsize drill | H2: Ensure capsize drills are run at the start of each season as a minimum. Keep a record
A3: 3 | B3: C | D3: Cox, bow steer competence | E3: Club registration of coxes and bow steers competence | G3: Steering competence | H3: Ensure rowers become approved steers by passing the steering assessment.
A4: 4 | B4: D | D4: Club rescue launch | E4: Ensure club rescue launch and crew are on the water or available and ready to boat at all times | G4: Coaching | H4: Ensure that rowers are coached in the correct handling of less stable boats
A5: 5 | B5: E
A7: 1A | B7: Low
A8: 1B | B8: Low
A9: 1C | B9: Low
A10: 1D | B10: Low
A11: 1E | B11: Moderate
A12: 2A | B12: Low
A13: 2B | B13: Low
A14: 2C | B14: Low
A15: 2D | B15: Moderate
A16: 2E | B16: Substantial
A17: 3A | B17: Low
A18: 3B | B18: Low
... A31: 5E | B31: Intolerable

Sheet Club Responsibilities
A1: Club Chairman | B1: Club RSA | C1: Coaches | D1: Coxes | E1: other (specify)

Sheet Colour key
B2: Low | C2: An acceptable level of risk. No additional barriers/controls are required. Start or continue the activity but check that the current barriers/controls remain effective.
B3: Moderate | C3: An acceptable level of risk that should be reviewed. Implement additional barriers/controls to reduce the risk if the opportunity arises. Start or continue the activity with care.
B4: Substantial | C4: An unacceptable level of risk. Improve the barriers/controls and allocate resources to reduce the risk. Do not start or continue the activity until the risk has been reduced.
B5: Intolerable | C5: An unacceptable level of risk. Improve the barriers/controls and allocate resources to reduce the risk. Do not start or continue the activity until the risk has been reduced. Prohibit the activity if it is not possible to reduce the risk.
